BEGIN:VCALENDAR
VERSION:2.0
PRODID:-//Film Nevada - ECPv6.15.20//NONSGML v1.0//EN
CALSCALE:GREGORIAN
METHOD:PUBLISH
X-WR-CALNAME:Film Nevada
X-ORIGINAL-URL:https://film.nv.gov
X-WR-CALDESC:Events for Film Nevada
REFRESH-INTERVAL;VALUE=DURATION:PT1H
X-Robots-Tag:noindex
X-PUBLISHED-TTL:PT1H
BEGIN:VTIMEZONE
TZID:America/Los_Angeles
BEGIN:DAYLIGHT
TZOFFSETFROM:-0800
TZOFFSETTO:-0700
TZNAME:PDT
DTSTART:20250309T100000
END:DAYLIGHT
BEGIN:STANDARD
TZOFFSETFROM:-0700
TZOFFSETTO:-0800
TZNAME:PST
DTSTART:20251102T090000
END:STANDARD
BEGIN:DAYLIGHT
TZOFFSETFROM:-0800
TZOFFSETTO:-0700
TZNAME:PDT
DTSTART:20260308T100000
END:DAYLIGHT
BEGIN:STANDARD
TZOFFSETFROM:-0700
TZOFFSETTO:-0800
TZNAME:PST
DTSTART:20261101T090000
END:STANDARD
BEGIN:DAYLIGHT
TZOFFSETFROM:-0800
TZOFFSETTO:-0700
TZNAME:PDT
DTSTART:20270314T100000
END:DAYLIGHT
BEGIN:STANDARD
TZOFFSETFROM:-0700
TZOFFSETTO:-0800
TZNAME:PST
DTSTART:20271107T090000
END:STANDARD
END:VTIMEZONE
BEGIN:VEVENT
DTSTART;TZID=America/Los_Angeles:20260426T160000
DTEND;TZID=America/Los_Angeles:20260426T170000
DTSTAMP:20260421T093109
CREATED:20250823T143504Z
LAST-MODIFIED:20260219T200228Z
UID:10000012-1777219200-1777222800@film.nv.gov
SUMMARY:13th Annual Las Vegas Black Film Festival
DESCRIPTION:Footer 2\n\n\n\n\n\nMaking a Black Impact \n\n\n\non the Big Screen!  \n\n\n\nIf you are a producer with a film that is written\, produced\, directed by or features an African American in a lead role\, we welcome you to submit\, compete and celebrate with us. \n\n\n\nShare your talents at the 13th Annual Las Vegas Black Film Festival.  \n\n\n\nSubmit your film\, enter one of our competitions\, attend one of our interactive and educational seminars or just come and party with us.  ALL filmmakers\, film actors and film lovers are welcome!
URL:https://film.nv.gov/event/13th-annual-las-vegas-black-film-festival/
LOCATION:Suncoast Hotel & Casino\, 9090 Alta Drive\, Las Vegas\, Nevada\, 89145
CATEGORIES:Film Festival
ATTACH;FMTTYPE=image/png:https://film.nv.gov/wp-content/uploads/2025/08/Screenshot-2025-08-22-153423.png
END:VEVENT
END:VCALENDAR